BEGIN:VCALENDAR
VERSION:2.0
PRODID:-//Charlton - ECPv6.15.20//NONSGML v1.0//EN
CALSCALE:GREGORIAN
METHOD:PUBLISH
X-WR-CALNAME:Charlton
X-ORIGINAL-URL:https://www.charlton.vic.au
X-WR-CALDESC:Events for Charlton
REFRESH-INTERVAL;VALUE=DURATION:PT1H
X-Robots-Tag:noindex
X-PUBLISHED-TTL:PT1H
BEGIN:VTIMEZONE
TZID:Australia/Melbourne
BEGIN:STANDARD
TZOFFSETFROM:+1100
TZOFFSETTO:+1000
TZNAME:AEST
DTSTART:20200404T160000
END:STANDARD
BEGIN:DAYLIGHT
TZOFFSETFROM:+1000
TZOFFSETTO:+1100
TZNAME:AEDT
DTSTART:20201003T160000
END:DAYLIGHT
BEGIN:STANDARD
TZOFFSETFROM:+1100
TZOFFSETTO:+1000
TZNAME:AEST
DTSTART:20210403T160000
END:STANDARD
BEGIN:DAYLIGHT
TZOFFSETFROM:+1000
TZOFFSETTO:+1100
TZNAME:AEDT
DTSTART:20211002T160000
END:DAYLIGHT
BEGIN:STANDARD
TZOFFSETFROM:+1100
TZOFFSETTO:+1000
TZNAME:AEST
DTSTART:20220402T160000
END:STANDARD
BEGIN:DAYLIGHT
TZOFFSETFROM:+1000
TZOFFSETTO:+1100
TZNAME:AEDT
DTSTART:20221001T160000
END:DAYLIGHT
END:VTIMEZONE
BEGIN:VEVENT
DTSTART;TZID=Australia/Melbourne:20211120T080000
DTEND;TZID=Australia/Melbourne:20211120T170000
DTSTAMP:20260422T043307
CREATED:20210512T051715Z
LAST-MODIFIED:20210512T051716Z
UID:756-1637395200-1637427600@www.charlton.vic.au
SUMMARY:Cafe Culture
DESCRIPTION:Charlton Arts presents ‘Los Cojones’\, 8pm at the Charlton Golf Club. Tickets $25. All details to be confirmed closer to the date.
URL:https://www.charlton.vic.au/event/cafe-culture-3/
END:VEVENT
END:VCALENDAR