BEGIN:VCALENDAR
VERSION:2.0
PRODID:-//Charlton - ECPv6.15.20//NONSGML v1.0//EN
CALSCALE:GREGORIAN
METHOD:PUBLISH
X-WR-CALNAME:Charlton
X-ORIGINAL-URL:https://www.charlton.vic.au
X-WR-CALDESC:Events for Charlton
REFRESH-INTERVAL;VALUE=DURATION:PT1H
X-Robots-Tag:noindex
X-PUBLISHED-TTL:PT1H
BEGIN:VTIMEZONE
TZID:Australia/Melbourne
BEGIN:STANDARD
TZOFFSETFROM:+1100
TZOFFSETTO:+1000
TZNAME:AEST
DTSTART:20220402T160000
END:STANDARD
BEGIN:DAYLIGHT
TZOFFSETFROM:+1000
TZOFFSETTO:+1100
TZNAME:AEDT
DTSTART:20221001T160000
END:DAYLIGHT
BEGIN:STANDARD
TZOFFSETFROM:+1100
TZOFFSETTO:+1000
TZNAME:AEST
DTSTART:20230401T160000
END:STANDARD
BEGIN:DAYLIGHT
TZOFFSETFROM:+1000
TZOFFSETTO:+1100
TZNAME:AEDT
DTSTART:20230930T160000
END:DAYLIGHT
BEGIN:STANDARD
TZOFFSETFROM:+1100
TZOFFSETTO:+1000
TZNAME:AEST
DTSTART:20240406T160000
END:STANDARD
BEGIN:DAYLIGHT
TZOFFSETFROM:+1000
TZOFFSETTO:+1100
TZNAME:AEDT
DTSTART:20241005T160000
END:DAYLIGHT
END:VTIMEZONE
BEGIN:VEVENT
DTSTART;TZID=Australia/Melbourne:20230919T140000
DTEND;TZID=Australia/Melbourne:20230919T170000
DTSTAMP:20260419T224150
CREATED:20230713T035439Z
LAST-MODIFIED:20230713T035441Z
UID:1286-1695132000-1695142800@www.charlton.vic.au
SUMMARY:CROW KID
DESCRIPTION:Crow Kid has moved to Nanna’s farm after a recent loss.  It’s summer holidays but it sure doesn’t feel like a normal summer – they’re lonely and super miserable! To ease their misery\, they start to feed the crows who visit Nanna’s yard\, beginning a beautiful friendship between child and bird.
URL:https://www.charlton.vic.au/event/crow-kid/
LOCATION:Rex Theatre\, Charlton\, 30-34 High Street\, Charlton\, Vic\, 3525\, Australia
ATTACH;FMTTYPE=image/png:https://www.charlton.vic.au/wp-content/uploads/2023/07/Crow-Kid.png
END:VEVENT
END:VCALENDAR