BEGIN:VCALENDAR
VERSION:2.0
PRODID:-//Charlton - ECPv6.15.20//NONSGML v1.0//EN
CALSCALE:GREGORIAN
METHOD:PUBLISH
X-ORIGINAL-URL:https://www.charlton.vic.au
X-WR-CALDESC:Events for Charlton
REFRESH-INTERVAL;VALUE=DURATION:PT1H
X-Robots-Tag:noindex
X-PUBLISHED-TTL:PT1H
BEGIN:VTIMEZONE
TZID:Australia/Melbourne
BEGIN:STANDARD
TZOFFSETFROM:+1100
TZOFFSETTO:+1000
TZNAME:AEST
DTSTART:20200404T160000
END:STANDARD
BEGIN:DAYLIGHT
TZOFFSETFROM:+1000
TZOFFSETTO:+1100
TZNAME:AEDT
DTSTART:20201003T160000
END:DAYLIGHT
BEGIN:STANDARD
TZOFFSETFROM:+1100
TZOFFSETTO:+1000
TZNAME:AEST
DTSTART:20210403T160000
END:STANDARD
BEGIN:DAYLIGHT
TZOFFSETFROM:+1000
TZOFFSETTO:+1100
TZNAME:AEDT
DTSTART:20211002T160000
END:DAYLIGHT
BEGIN:STANDARD
TZOFFSETFROM:+1100
TZOFFSETTO:+1000
TZNAME:AEST
DTSTART:20220402T160000
END:STANDARD
BEGIN:DAYLIGHT
TZOFFSETFROM:+1000
TZOFFSETTO:+1100
TZNAME:AEDT
DTSTART:20221001T160000
END:DAYLIGHT
END:VTIMEZONE
BEGIN:VEVENT
DTSTART;TZID=Australia/Melbourne:20210314T110000
DTEND;TZID=Australia/Melbourne:20210314T170000
DTSTAMP:20260422T170920
CREATED:20210313T224306Z
LAST-MODIFIED:20210313T224308Z
UID:694-1615719600-1615741200@www.charlton.vic.au
SUMMARY:Charlton Pacing Cup
DESCRIPTION:
URL:https://www.charlton.vic.au/event/charlton-pacing-cup/
LOCATION:Charlton Park\, Calder Highway\, Charlton\, Victoria\, 3525\, Australia
END:VEVENT
BEGIN:VEVENT
DTSTART;TZID=Australia/Melbourne:20210321T080000
DTEND;TZID=Australia/Melbourne:20210321T170000
DTSTAMP:20260422T170920
CREATED:20210313T224615Z
LAST-MODIFIED:20210313T224617Z
UID:700-1616313600-1616346000@www.charlton.vic.au
SUMMARY:Lions Club Town Garage Sale
DESCRIPTION:Car Boot Sale at Travellers Rest \n\n\n\nCollect map at all participating sellers
URL:https://www.charlton.vic.au/event/lions-club-town-garage-sale/
END:VEVENT
END:VCALENDAR