BEGIN:VCALENDAR
VERSION:2.0
PRODID:-//Charlton - ECPv6.15.20//NONSGML v1.0//EN
CALSCALE:GREGORIAN
METHOD:PUBLISH
X-ORIGINAL-URL:https://www.charlton.vic.au
X-WR-CALDESC:Events for Charlton
REFRESH-INTERVAL;VALUE=DURATION:PT1H
X-Robots-Tag:noindex
X-PUBLISHED-TTL:PT1H
BEGIN:VTIMEZONE
TZID:Australia/Melbourne
BEGIN:STANDARD
TZOFFSETFROM:+1100
TZOFFSETTO:+1000
TZNAME:AEST
DTSTART:20220402T160000
END:STANDARD
BEGIN:DAYLIGHT
TZOFFSETFROM:+1000
TZOFFSETTO:+1100
TZNAME:AEDT
DTSTART:20221001T160000
END:DAYLIGHT
BEGIN:STANDARD
TZOFFSETFROM:+1100
TZOFFSETTO:+1000
TZNAME:AEST
DTSTART:20230401T160000
END:STANDARD
BEGIN:DAYLIGHT
TZOFFSETFROM:+1000
TZOFFSETTO:+1100
TZNAME:AEDT
DTSTART:20230930T160000
END:DAYLIGHT
BEGIN:STANDARD
TZOFFSETFROM:+1100
TZOFFSETTO:+1000
TZNAME:AEST
DTSTART:20240406T160000
END:STANDARD
BEGIN:DAYLIGHT
TZOFFSETFROM:+1000
TZOFFSETTO:+1100
TZNAME:AEDT
DTSTART:20241005T160000
END:DAYLIGHT
END:VTIMEZONE
BEGIN:VEVENT
DTSTART;TZID=Australia/Melbourne:20231210T190000
DTEND;TZID=Australia/Melbourne:20231210T210000
DTSTAMP:20260421T023516
CREATED:20231205T050434Z
LAST-MODIFIED:20231207T021456Z
UID:1362-1702234800-1702242000@www.charlton.vic.au
SUMMARY:Community Christmas Carols
DESCRIPTION:Entertainment by: \n\n\n\n \n\n\n\n\nCharlton College Students\n\n\n\nSt Joseph’s Students\n\n\n\nCharlton Wycheproof Band\n\n\n\nChristmas Message – School Chaplain\, Tom Ayars
URL:https://www.charlton.vic.au/event/community-christmas-carols/
LOCATION:Rex Theatre\, Charlton\, 30-34 High Street\, Charlton\, Vic\, 3525\, Australia
END:VEVENT
BEGIN:VEVENT
DTSTART;TZID=Australia/Melbourne:20231222T173000
DTEND;TZID=Australia/Melbourne:20231222T203000
DTSTAMP:20260421T023516
CREATED:20231205T050623Z
LAST-MODIFIED:20231205T050625Z
UID:1366-1703266200-1703277000@www.charlton.vic.au
SUMMARY:Christmas Fest
DESCRIPTION:
URL:https://www.charlton.vic.au/event/christmas-fest-3/
END:VEVENT
END:VCALENDAR